BEGIN:VCALENDAR
PRODID:-//AT Content Types//AT Event//EN
VERSION:2.0
METHOD:PUBLISH
BEGIN:VEVENT
DTSTAMP:20260423T233144Z
CREATED:20130917T183449Z
UID:ATEvent-6f6414abac026d0b28e75d0f6f7b03e4
LAST-MODIFIED:20130917T183751Z
SUMMARY:Russische MÃ¤rchen â€“ deutsch und russisch\, mit Wort und Klang
DTSTART:20130928T173000Z
DTEND:20130928T200000Z
DESCRIPTION:Am Samstag\, den 28. September 2013 findet in der Villa Fa
 lkenhorst in ThÃ¼ringen um 19.30 Uhr die Premiere der Veranstaltung â€
 žRussische MÃ¤rchenâ€œ statt. Hertha GlÃ¼ck und Heike Vigl erzÃ¤hlen a
 uf Deutsch und Russisch\, musikalisch untermalt von Heike Vigl an der 
 QuerflÃ¶te.
LOCATION:Villa Falkenhorst ThÃ¼ringen Vorarlberg
CONTACT:Hertha GlÃ¼ck\, +43 664 1957427
URL:http://www.herthaglueck.at
CLASS:PUBLIC
END:VEVENT
END:VCALENDAR
