BEGIN:VCALENDAR
PRODID:-//AT Content Types//AT Event//EN
VERSION:2.0
METHOD:PUBLISH
BEGIN:VEVENT
DTSTAMP:20260423T233143Z
CREATED:20130701T141704Z
UID:ATEvent-9857503b3650efee65640db77e596398
LAST-MODIFIED:20130701T144600Z
SUMMARY:Nachtwanderung zum Markt mit Hertha Glück
DTSTART:20130719T170000Z
DTEND:20130720T060000Z
DESCRIPTION:Auf dem Walserweg zum Bludenzer Markt mit HERTHA GLÜCK un
 d ROLAND NATTER.
LOCATION:Gemeindeamt\, Walgaustraße 20\, Thüringen
CATEGORIES:Vorarlberg
CONTACT:Hertha Glück\, +43 664 19 57 427
CLASS:PUBLIC
END:VEVENT
END:VCALENDAR
