BEGIN:VCALENDAR
PRODID:-//AT Content Types//AT Event//EN
VERSION:2.0
METHOD:PUBLISH
BEGIN:VEVENT
DTSTAMP:20260423T233121Z
CREATED:20100609T082752Z
UID:ATEvent-fadc2bd91d30645311b4baf8fb685c35
LAST-MODIFIED:20100609T082838Z
SUMMARY:MoorWunder und FeinSchmecker mit Hertha Glück im Kurhotel Rossbad in Krumbach
DTSTART:20100805T160000Z
DTEND:20100805T200000Z
DESCRIPTION:MoorZeit WanderZeit  GeschichtenZeit  EssensZeit\n3. Termi
 n in einer 4er Serie\nIns Moor wandern\, Geschichten hören\, MoorKös
 tlichkeiten genießen\n€ 25.-\nAnmeldung erforderlich
LOCATION:Kurhotel Rossbad in Krumbach
CATEGORIES:Vorarlberg
CONTACT:Kurhotel Rossbad\, 05513  5110\, info@rossbad.com
URL:http://www.herthaglueck.at
CLASS:PUBLIC
END:VEVENT
END:VCALENDAR
