BEGIN:VCALENDAR
PRODID:-//AT Content Types//AT Event//EN
VERSION:1.0
BEGIN:VEVENT
DTSTART:20130721T070000Z
DTEND:20130721T140000Z
DCREATED:20130701T143700Z
UID:ATEvent-e935d7c6082db759ffdaa39299813aeb
SEQUENCE:0
LAST-MODIFIED:20130701T143719Z
SUMMARY:Frühgeschichtliches Tor Walgaus mit Hertha Glück
DESCRIPTION:Zum Aussichtspunkt Spiegelstein (Spuren der letzten Eiszei
 t) nach Vatlära\, durchs romantische Ifigoppatal zum Schwarzen See (E
 inkehrschwung) über Tufers zurück.
LOCATION:Bahnhof Rankweil\, Bahnhofstraße\, Rankweil
PRIORITY:3
TRANSP:0
END:VEVENT
END:VCALENDAR
