BEGIN:VCALENDAR
PRODID:-//AT Content Types//AT Event//EN
VERSION:1.0
BEGIN:VEVENT
DTSTART:20130803T170000Z
DTEND:20130803T200000Z
DCREATED:20130701T133352Z
UID:ATEvent-bba31141d09ddeb8ac09a75220f3662b
SEQUENCE:0
LAST-MODIFIED:20130701T140517Z
SUMMARY:Erzählgenuss im Heustall mit Hertha Glück
DESCRIPTION:ERZÄHLGENUSS im HEUSTALL ab 18 Jahre. Hinters Ohr geküss
 t . Liebesgeschichten\nim Heu erzählt von HERTHA GLÜCK. Am 03.08.13 
 erzählt auch SIBYLLE BAUMANN.
LOCATION:Dorflinde Raggal\, bei der Kirche
PRIORITY:3
TRANSP:0
END:VEVENT
END:VCALENDAR
