BEGIN:VCALENDAR
PRODID:-//AT Content Types//AT Event//EN
VERSION:1.0
BEGIN:VEVENT
DTSTART:20130711T170000Z
DTEND:20130711T200000Z
DCREATED:20130701T140839Z
UID:ATEvent-883358bb901545600d0518c8ee7c0042
SEQUENCE:0
LAST-MODIFIED:20130701T141138Z
SUMMARY:Erzählabend am Hexenstein mit Hertha Glück
DESCRIPTION:Geschichten und Feuersuppe mit HERTHA GLÜCK\nWilde WeibsB
 ilder und Wilde MannsBilder\nVon Ihr und Ihm im gleichen Tun
LOCATION:Kapelle Rungelin\, Bludenz\, Bludenz
PRIORITY:3
TRANSP:0
END:VEVENT
END:VCALENDAR
