BEGIN:VCALENDAR
PRODID:-//AT Content Types//AT Event//EN
VERSION:1.0
BEGIN:VEVENT
DTSTART:20130807T121500Z
DTEND:20130807T150000Z
DCREATED:20130701T143150Z
UID:ATEvent-2572677a07768ca442a080d26d63694c
SEQUENCE:0
LAST-MODIFIED:20130701T143331Z
SUMMARY:Wasserspiele am Zuger Älpele mit Hertha Glück
DESCRIPTION:Auf der Suche nach dem Wasserungeheuer und dem Wasser für
 s Leben.
LOCATION:Zuger Älpele\, Zug\, Lech
PRIORITY:3
TRANSP:0
END:VEVENT
END:VCALENDAR
