BEGIN:VCALENDAR
PRODID:-//AT Content Types//AT Event//EN
VERSION:2.0
METHOD:PUBLISH
BEGIN:VEVENT
DTSTAMP:20260423T210256Z
CREATED:20130701T141704Z
UID:ATEvent-e365aa6b106b1ff083623449c66dbcdf
LAST-MODIFIED:20130701T141947Z
SUMMARY:Nachtwanderung zum Markt mit Hertha Glück
DTSTART:20130816T170000Z
DTEND:20130817T060000Z
DESCRIPTION:Auf dem Walserweg zum Bludenzer Markt mit HERTHA GLÜCK un
 d ROLAND NATTER.
LOCATION:Gemeindeamt\, Walgaustraße 20\, Thüringen
CATEGORIES:Vorarlberg
CONTACT:Hertha Glück\, +43 664 19 57 427
CLASS:PUBLIC
END:VEVENT
END:VCALENDAR
