BEGIN:VCALENDAR
PRODID:-//AT Content Types//AT Event//EN
VERSION:2.0
METHOD:PUBLISH
BEGIN:VEVENT
DTSTAMP:20260423T233244Z
CREATED:20130701T143700Z
UID:ATEvent-bb67a85298391372d786af041b854453
LAST-MODIFIED:20130701T143844Z
SUMMARY:Frühgeschichtliches Tor Walgaus mit Hertha Glück
DTSTART:20130818T070000Z
DTEND:20130818T140000Z
DESCRIPTION:Zum Aussichtspunkt Spiegelstein (Spuren der letzten Eiszei
 t) nach Vatlära\, durchs romantische Ifigoppatal zum Schwarzen See (E
 inkehrschwung) über Tufers zurück.
LOCATION:Bahnhof Rankweil\, Bahnhofstraße\, Rankweil
CATEGORIES:Vorarlberg
CONTACT:Hertha Glück\, +43 664 19 57 427
CLASS:PUBLIC
END:VEVENT
END:VCALENDAR
