BEGIN:VCALENDAR
PRODID:-//AT Content Types//AT Event//EN
VERSION:1.0
BEGIN:VEVENT
DTSTART:20130815T170000Z
DTEND:20130815T200000Z
DCREATED:20130701T140839Z
UID:ATEvent-98ea746ffcd918e1c250fb8a6255d74a
SEQUENCE:0
LAST-MODIFIED:20130701T141218Z
SUMMARY:Erzählabend am Hexenstein mit Hertha Glück
DESCRIPTION:Geschichten und Feuersuppe mit HERTHA GLÜCK\nWilde WeibsB
 ilder und Wilde MannsBilder\nVon Ihr und Ihm im gleichen Tun
LOCATION:Kapelle Rungelin\, Bludenz\, Bludenz
PRIORITY:3
TRANSP:0
END:VEVENT
END:VCALENDAR
