BEGIN:VCALENDAR
PRODID:-//AT Content Types//AT Event//EN
VERSION:1.0
BEGIN:VEVENT
DTSTART:20130804T070000Z
DTEND:20130804T160000Z
DCREATED:20130701T144149Z
UID:ATEvent-8f72ea1e86d1364d13be65505848f109
SEQUENCE:0
LAST-MODIFIED:20130701T144330Z
SUMMARY:Auszeit im Frödischtal mit Hertha Glück
DESCRIPTION:Kreativ entschleunigen mit der Natur Essen am Feuer mit RO
 LAND NATTER.
LOCATION:Gasthaus Rössle\, Rautenastraße 28\, Röthis
PRIORITY:3
TRANSP:0
END:VEVENT
END:VCALENDAR
