BEGIN:VCALENDAR
PRODID:-//AT Content Types//AT Event//EN
VERSION:2.0
METHOD:PUBLISH
BEGIN:VEVENT
DTSTAMP:20260423T210101Z
CREATED:20130701T142445Z
UID:ATEvent-7dfcaf2b5cbfb7578d4267b5a24dae10
LAST-MODIFIED:20130701T142628Z
SUMMARY:Alpspiele am Dünser Älpele mit Hertha Glück
DTSTART:20130828T120000Z
DTEND:20130828T150000Z
DESCRIPTION:Von küssenden Kühen\, Alpgeistern \, singenden Tannen un
 d unheimlichen Glocken. Mit HERTHA GLÜCK.
LOCATION:Seilbahn Schnifisberg\, Talstation\, Seilbahn Schnifisberg\, Talstation\, Feldkirch
CATEGORIES:Vorarlberg
CONTACT:Hertha Glück\, +43 664 19 57 427
CLASS:PUBLIC
END:VEVENT
END:VCALENDAR
