BEGIN:VCALENDAR
PRODID:-//AT Content Types//AT Event//EN
VERSION:1.0
BEGIN:VEVENT
DTSTART:20130707T070000Z
DTEND:20130707T160000Z
DCREATED:20130701T144149Z
UID:ATEvent-178634fb24168965ceac874a33f3cc83
SEQUENCE:0
LAST-MODIFIED:20130701T144214Z
SUMMARY:Auszeit im Frödischtal mit Hertha Glück
DESCRIPTION:Kreativ entschleunigen mit der Natur Essen am Feuer mit RO
 LAND NATTER.
LOCATION:Gasthaus Rössle\, Rautenastraße 28\, Röthis
PRIORITY:3
TRANSP:0
END:VEVENT
END:VCALENDAR
