BEGIN:VCALENDAR
PRODID:-//AT Content Types//AT Event//EN
VERSION:1.0
BEGIN:VEVENT
DTSTART:20130731T120000Z
DTEND:20130731T150000Z
DCREATED:20130701T142445Z
UID:ATEvent-635f9c14634e8bb05e08fcfe2f39536e
SEQUENCE:0
LAST-MODIFIED:20130701T142509Z
SUMMARY:Alpspiele am Dünser Älpele mit Hertha Glück
DESCRIPTION:Von küssenden Kühen\, Alpgeistern \, singenden Tannen un
 d unheimlichen Glocken. Mit HERTHA GLÜCK.
LOCATION:Seilbahn Schnifisberg\, Talstation\, Seilbahn Schnifisberg\, Talstation\, Feldkirch
PRIORITY:3
TRANSP:0
END:VEVENT
END:VCALENDAR
