BEGIN:VCALENDAR
PRODID:-//AT Content Types//AT Event//EN
VERSION:1.0
BEGIN:VEVENT
DTSTART:20141213T150000Z
DTEND:20141213T160000Z
DCREATED:20141126T110035Z
UID:ATEvent-ba4ea1a763be1fc5f74551dc0a7436b7
SEQUENCE:0
LAST-MODIFIED:20141126T110036Z
SUMMARY:Weihnachtsgeschichten
DESCRIPTION:Geschichten und Zeichnungen mit Heike Vigl und Armin Bardu
 cci
LOCATION:Bozen\, Stadtmuseum
PRIORITY:3
TRANSP:0
END:VEVENT
END:VCALENDAR
