BEGIN:VCALENDAR
PRODID:-//AT Content Types//AT Event//EN
VERSION:2.0
METHOD:PUBLISH
BEGIN:VEVENT
DTSTAMP:20260423T232648Z
CREATED:20121226T154442Z
UID:ATEvent-f931f14b96fe0aa6c45324c2ecd643e8
LAST-MODIFIED:20121226T154842Z
SUMMARY:Von listigen Weibern
DTSTART:20130307T190000Z
DTEND:20130307T203000Z
DESCRIPTION:Märchen und Geschichten von klugen Frauen frei erzählt u
 nd kunstvoll verwoben mit Flöten und Zitherklängen\nErzählerin\, Fl
 öten\: Heike Vigl\nZither\: Reinhilde Gamper
LOCATION:Öffentliche Bibliothek Vöran
CATEGORIES:Südtirol
CLASS:PUBLIC
END:VEVENT
END:VCALENDAR
