BEGIN:VCALENDAR
PRODID:-//AT Content Types//AT Event//EN
VERSION:2.0
METHOD:PUBLISH
BEGIN:VEVENT
DTSTAMP:20260424T041431Z
CREATED:20141126T110309Z
UID:ATEvent-8aac48eaf4cf6929cae5c05b77eda616
LAST-MODIFIED:20141126T110309Z
SUMMARY:Schneeiges\, Schimmerndes & Seltsames
DTSTART:20141220T153000Z
DTEND:20141220T163000Z
DESCRIPTION:Schnee schimmert rundherum und Geschichten von seltsamen\,
  schimmernden und schneeigen  Dingen machen die Runde\: Katzen tummeln
  sich in der Gesellschaft von Mäusen\, frostige Gestalten lassen es u
 m die Wette frieren\, Licht kommt ins Dunkel und …
LOCATION:Oberbozen
CATEGORIES:Südtirol
CLASS:PUBLIC
END:VEVENT
END:VCALENDAR
