BEGIN:VCALENDAR
PRODID:-//AT Content Types//AT Event//EN
VERSION:2.0
METHOD:PUBLISH
BEGIN:VEVENT
DTSTAMP:20260424T044837Z
CREATED:20141126T111752Z
UID:ATEvent-0e6182261ef1bebd9e1441376acbc621
LAST-MODIFIED:20141126T111752Z
SUMMARY:Erzählkunstfestival in Nürnberg\: Zauberwort
DTSTART:20150102T180000Z
DTEND:20150106T170000Z
DESCRIPTION:Ein Erzählkunstfestival mit vielen verschiedenen Erzähle
 r/innen\nIch bin zu hören bei\: Russische Geschichten mit Hertha Glü
 ck (deutsch) und Heike Vigl (russisch\, Musik) - 05.01.2015\, 15\:00 U
 hr\; Langer Abend II - 03.03.2015\, 20 Uhr\; Langer Abend III - Sprach
 klang - 05.01.2015\, 20\:00 Uhr\nDas ganze Programm findet sich unter\
 : www.zauberwort.info
LOCATION:Nürnberg
CLASS:PUBLIC
END:VEVENT
END:VCALENDAR
