BEGIN:VCALENDAR
PRODID:-//AT Content Types//AT Event//EN
VERSION:1.0
BEGIN:VEVENT
DTSTART:20131010T183000Z
DTEND:20131010T194500Z
DCREATED:20130919T062942Z
UID:ATEvent-0de6e547f0d5e27346c0463d0bd39f9b
SEQUENCE:0
LAST-MODIFIED:20130919T063423Z
SUMMARY:Erzählkunst & Klang\: Schatten der Nacht - Dunkle Geschichten\, unheimliche Klänge
DESCRIPTION:Eine (Erzähl)Stimme\, eine Flöte\, eine Zither\nSeit ein
 igen Jahren sind die beiden ein Team\: Heike Vigl erzählt\, spielt au
 f der Flöte\, Reinhilde Gamper spielt auf der Zither. Dabei verweben 
 die beiden die Geschichten mit den Klängen ihrer Instrumente. Es ents
 teht  ein harmonisches und wundervolles Ganzes\: Erzählkunst & Klang 
 \nErzählkunst - luftig und leicht\, tänzerisch und anmutig\, griffig
  und einprägsam\nKlang - berührend und herb\, schräg und harmonisch
 \, geheimnisvoll und pulsierend \nDie Zuhörerinnen und Zuhörer erleb
 en einen Abend der besonderen Art\: dunkle Geschichten – seltsam und
  entrisch\, unheimliche Klänge – schräg und gespenstisch und doch 
 bezaubernd und charmant.
LOCATION:Kommende Lengmoos/Ritten - Südtirol
PRIORITY:3
TRANSP:0
END:VEVENT
END:VCALENDAR
