BEGIN:VCALENDAR
PRODID:-//AT Content Types//AT Event//EN
VERSION:2.0
METHOD:PUBLISH
BEGIN:VEVENT
DTSTAMP:20260424T044203Z
CREATED:20130919T063328Z
UID:ATEvent-c5fbb0dfad4cb7f87d019189b8d3869c
LAST-MODIFIED:20130919T063329Z
SUMMARY:Erzählkunst & Klang\: Herzhafte Schmankerln für Mund & Ohr
DTSTART:20131116T170000Z
DTEND:20131116T190000Z
DESCRIPTION:Heike Vigl erzählt in der Törggelestube vom Kinighof Ges
 chichten rund um's liebe Essen.
LOCATION:Kinighof\, Signat/Ritten - Südtirol
CLASS:PUBLIC
END:VEVENT
END:VCALENDAR
