BEGIN:VCALENDAR
PRODID:-//AT Content Types//AT Event//EN
VERSION:2.0
METHOD:PUBLISH
BEGIN:VEVENT
DTSTAMP:20260424T041449Z
CREATED:20141126T105621Z
UID:ATEvent-2f406960c9a11cabd9a4f18c37f08020
LAST-MODIFIED:20141126T105621Z
SUMMARY:Ein Kristall aus Schnee und Eis
DTSTART:20141207T160000Z
DTEND:20141207T170000Z
LOCATION:Salurn
CATEGORIES:Südtirol
CLASS:PUBLIC
END:VEVENT
END:VCALENDAR
