BEGIN:VCALENDAR
PRODID:-//AT Content Types//AT Event//EN
VERSION:1.0
BEGIN:VEVENT
DTSTART:20100306T183000Z
DTEND:20100306T210000Z
DCREATED:20100209T195402Z
UID:ATEvent-54619a93d7ac1c7b1335b9cdcf179750
SEQUENCE:0
LAST-MODIFIED:20100209T195414Z
SUMMARY:Den Schatz heben
DESCRIPTION:Nacht der Steirischen Erzählkultur.  Erzähler\: Rosemari
 e Popp\, Annemarie Pichler\, Frederik Mellak
LOCATION:Deutschlandsberg Musikschule
PRIORITY:3
TRANSP:0
END:VEVENT
END:VCALENDAR
