BEGIN:VCALENDAR
PRODID:-//AT Content Types//AT Event//EN
VERSION:1.0
BEGIN:VEVENT
DTSTART:20130718T180000Z
DTEND:20130718T201500Z
DCREATED:20130429T191437Z
UID:ATEvent-9d7c9c49aa095d8933d5ae2acea16fa7
SEQUENCE:0
LAST-MODIFIED:20130429T192828Z
SUMMARY:FeuerMond ZAUBER DER WORTE
DESCRIPTION:Reza Maschajechi erzählt persiche Märchen und rezitiert 
 Gedichte
LOCATION:Tiroler Volkskunstmuesum\, Universitätsstraße\, neben der Schwarzmanderkirche in Innsbruck unter den Lauben\, bei jedem Wetter trocken und mit Sternenhimmel in Innsbruck
PRIORITY:3
TRANSP:0
END:VEVENT
END:VCALENDAR
