BEGIN:VCALENDAR
PRODID:-//AT Content Types//AT Event//EN
VERSION:1.0
BEGIN:VEVENT
DTSTART:20120319T230500Z
DTEND:20120320T225500Z
DCREATED:20120307T140500Z
UID:ATEvent-1951cacf63fb0676834df91d24116c8b
SEQUENCE:0
LAST-MODIFIED:20120307T140553Z
SUMMARY:WELT GESCHICHTEN TAG
DESCRIPTION:heute werden überall auf der Welt Geschichten erzählt
LOCATION:Überall
PRIORITY:3
TRANSP:0
END:VEVENT
END:VCALENDAR
