BEGIN:VCALENDAR
PRODID:-//AT Content Types//AT Event//EN
VERSION:2.0
METHOD:PUBLISH
BEGIN:VEVENT
DTSTAMP:20260424T044811Z
CREATED:20100929T123256Z
UID:ATEvent-9913350796e39fd1e93b6eda9a59a8ab
LAST-MODIFIED:20100929T123318Z
SUMMARY:WEIBERLUG UND MÄNNERTRUG+ NICHT ALLES\, WAS GLÄNZT
DTSTART:20101009T100000Z
DTEND:20101009T130000Z
DESCRIPTION:Von lustigen Lügen und wirksamen Wahrheiten zwischen Frau
  und Mann\n+ Goldene Geschichten von Münzen\, Zähne und Brokat. Viel
 es kann aus Gold sein und im Märchen sogar ein Berg\, Haut und Haar
LOCATION:Im Landeskonservatorium in Feldkirch
CATEGORIES:Vorarlberg
CONTACT:Frau Wolle\, 0512-370316\, frau.wolle@utanet.at
URL:http://www.frauwolle.at
CLASS:PUBLIC
END:VEVENT
END:VCALENDAR
