BEGIN:VCALENDAR
PRODID:-//AT Content Types//AT Event//EN
VERSION:2.0
METHOD:PUBLISH
BEGIN:VEVENT
DTSTAMP:20260424T015112Z
CREATED:20121030T112923Z
UID:ATEvent-70577fcd3dffe560ccf5a2136f81f649
LAST-MODIFIED:20121030T114907Z
SUMMARY:"Herzfeuer" Grazer Nächte der Erzählkunst 2012\: Wahrsager und Grasmücke
DTSTART:20121130T183000Z
DTEND:20121130T203000Z
DESCRIPTION:Frederik Mellak und Frau Wolle erzählen wie Mann und Frau
  trotz allem zueinander finden\nMusik\: Heidemarie Wiegand auf dem Kla
 vier\nWenn das Herz singt\, wollen die Füße tanzen. Arbeit hin\, Arb
 eit her.\nDie Wege des Herzens sind ungewöhnlich und voller Überrasc
 hungen. Eine durchtanzte Nacht rettet das Leben und der "Böse" bewirk
 t das "Gute". Mann und Frau entdecken Körperteile\, die niemals lüge
 n. Eine verschlafene Königstochter erwacht zur rechten Zeit. Einer ge
 ht barfuß in Schuhen daher\, ein anderer fliegt zum Herzne der weises
 ten Frau.   /   Eintritt\: 14.- bei Vorbestellung/ 16.- an der Abendka
 ssa   /   Anmeldung erbeten unter 0699 12 19 73 73
LOCATION:Musiksalon Ehrfurt\, Herrengasse 3 in Graz
CATEGORIES:Steiermark
CONTACT:Frederik Mellak\, frederik.mellak@aon.at
URL:http://www.freudeanmaerchen.at/
CLASS:PUBLIC
END:VEVENT
END:VCALENDAR
