BEGIN:VCALENDAR
PRODID:-//AT Content Types//AT Event//EN
VERSION:2.0
METHOD:PUBLISH
BEGIN:VEVENT
DTSTAMP:20260423T232827Z
CREATED:20091201T140236Z
UID:ATEvent-38115968e7a6ac12d981eb83fb060bee
LAST-MODIFIED:20091201T140321Z
SUMMARY:VON LICHT UND DUNKEL
DTSTART:20091209T190000Z
DTEND:20091209T211500Z
DESCRIPTION:Erhellendes für lange Nächte
LOCATION:Franziskanerkirche Bozen in Südtirol
CATEGORIES:Südtirol
CONTACT:Raika Südtirol
CLASS:PUBLIC
END:VEVENT
END:VCALENDAR
