BEGIN:VCALENDAR
PRODID:-//AT Content Types//AT Event//EN
VERSION:1.0
BEGIN:VEVENT
DTSTART:20130201T183000Z
DTEND:20130201T200000Z
DCREATED:20130123T142258Z
UID:ATEvent-5ae8be5519176ea48e975f0c756d88e0
SEQUENCE:0
LAST-MODIFIED:20130123T142319Z
SUMMARY:RÄTSELLUST UND LIEBESLIST
DESCRIPTION:Frau Wolle erzählt Märchen und Geschichten von den Irr-.
  Um- und Aus-Wegen in der Liebe\: Ist es möglich\, dass eine Frau all
 es gut findet\, was ihr Mann tut? Und was geschieht\, wenn sie umgekeh
 rt zu allem immer nur "nein" sagt?\nIn den Märchen dieses Abends werd
 en Wetten abgeschlossen\, Hindernisse aufgebaut und Listen ausgeführt
 . Und immer wieder verführt\, verhindert\, verwirrt und erlöst -die 
 Liebe.   /   Eintritt\: freiwillige Spenden   /   Anreise Schönegg be
 i Hall/Tirol\: mit dem 4er Bus bis zur Haltestelle Milserstraße (3 Mi
 nuten vom Pfarrzentrum)
LOCATION:Pfarrsaal in Schönegg bei Hall in Tirol\: genaue Adresse\: Bei der Säule 2 in 6060 Hall
PRIORITY:3
TRANSP:0
END:VEVENT
END:VCALENDAR
