BEGIN:VCALENDAR
PRODID:-//AT Content Types//AT Event//EN
VERSION:1.0
BEGIN:VEVENT
DTSTART:20130319T190000Z
DTEND:20130319T203000Z
DCREATED:20130123T143414Z
UID:ATEvent-e9b68e53683b01baaf8064907b5c868b
SEQUENCE:0
LAST-MODIFIED:20130123T143427Z
SUMMARY:RÄTSELLUST UND LIEBESLIST
DESCRIPTION:Frau Wolle erzählt Märchen und Geschichten von den Irr-.
  Um- und Aus-Wegen in der Liebe\nIst es möglich\, dass eine Frau alle
 s gut findet\, was ihr Mann tut? Und was geschieht\, wenn sie umgekehr
 t zu allem immer nur "nein" sagt? In den Märchen dieses Abends werden
  Wetten abgeschlossen\, Hindernisse aufgebaut und Listen ausgeführt. 
 Und immer wieder verführt\, verhindert\, verwirrt und erlöst -die Li
 ebe.   /   Eintritt\: freiwillige Spenden
LOCATION:Aula des Familienverbandes in der Riedgasse Innsbruck
PRIORITY:3
TRANSP:0
END:VEVENT
END:VCALENDAR
