BEGIN:VCALENDAR
PRODID:-//AT Content Types//AT Event//EN
VERSION:2.0
METHOD:PUBLISH
BEGIN:VEVENT
DTSTAMP:20260423T233244Z
CREATED:20130123T143225Z
UID:ATEvent-36f7ea282641342a2febd0617240f69d
LAST-MODIFIED:20130123T143236Z
SUMMARY:RÄTSELLUST UND LIEBESLIST
DTSTART:20130318T190000Z
DTEND:20130318T203000Z
DESCRIPTION:Frau Wolle erzählt Märchen und Geschichten von den Irr-.
  Um- und Aus-Wegen in der Liebe\nIst es möglich\, dass eine Frau alle
 s gut findet\, was ihr Mann tut? Und was geschieht\, wenn sie umgekehr
 t zu allem immer nur "nein" sagt? In den Märchen dieses Abends werden
  Wetten abgeschlossen\, Hindernisse aufgebaut und Listen ausgeführt. 
 Und immer wieder verführt\, verhindert\, verwirrt und erlöst -die Li
 ebe.   /   Eintritt\: freiwillige Spenden
LOCATION:Heim Santa Katharina -6531 Ried i.O. Haus Nr. 1
CATEGORIES:Tirol
CONTACT:Frau Wolle (Karin Tscholl)\, +43-(0)512-37 03 16\, frau.wolle@utanet.at
URL:http://www.frauwolle.at/
CLASS:PUBLIC
END:VEVENT
END:VCALENDAR
