BEGIN:VCALENDAR
PRODID:-//AT Content Types//AT Event//EN
VERSION:1.0
BEGIN:VEVENT
DTSTART:20130227T190000Z
DTEND:20130227T203000Z
DCREATED:20130123T142826Z
UID:ATEvent-7df3e95a3319f68d558e6fe7bc9280a4
SEQUENCE:0
LAST-MODIFIED:20130123T142849Z
SUMMARY:RÄTSELLUST UND LIEBESLIST
DESCRIPTION:RÄTSELLUST UND LIEBESLIST\nFrau Wolle erzählt Märchen u
 nd Geschichten von den Irr-. Um- und Aus-Wegen in der Liebe\: Ist es m
 öglich\, dass eine Frau alles gut findet\, was ihr Mann tut? Und was 
 geschieht\, wenn sie umgekehrt zu allem immer nur "nein" sagt?\nIn den
  Märchen dieses Abends werden Wetten abgeschlossen\, Hindernisse aufg
 ebaut und Listen ausgeführt. Und immer wieder verführt\, verhindert\
 , verwirrt und erlöst -die Liebe.   /   Eintritt\: freiwillige Spende
 n
LOCATION:Dorfstube in Tristach\, Dorfstraße 37 -9907 Tristach
PRIORITY:3
TRANSP:0
END:VEVENT
END:VCALENDAR
