BEGIN:VCALENDAR
PRODID:-//AT Content Types//AT Event//EN
VERSION:2.0
METHOD:PUBLISH
BEGIN:VEVENT
DTSTAMP:20260424T015641Z
CREATED:20130123T142554Z
UID:ATEvent-49f0c363d82df33d33c168b1380511a1
LAST-MODIFIED:20130123T142609Z
SUMMARY:RÄTSELLUST UND LIEBESLIST
DTSTART:20130220T190000Z
DTEND:20130220T203000Z
DESCRIPTION:Frau Wolle erzählt Märchen und Geschichten von den Irr-.
  Um- und Aus-Wegen in der Liebe\: Ist es möglich\, dass eine Frau all
 es gut findet\, was ihr Mann tut? Und was geschieht\, wenn sie umgekeh
 rt zu allem immer nur "nein" sagt?\nIn den Märchen dieses Abends werd
 en Wetten abgeschlossen\, Hindernisse aufgebaut und Listen ausgeführt
 . Und immer wieder verführt\, verhindert\, verwirrt und erlöst -die 
 Liebe.   /   Eintritt\: freiwillige Spenden ... einige Stufen also nic
 ht barrierefrei
LOCATION:Pfarrsaal in Lechaschau\, Mühlbachweg 1 - 6600 Lechaschau
CATEGORIES:Tirol
CONTACT:Frau Wolle (Karin Tscholl)\, +43-(0)512-37 03 16\, frau.wolle@utanet.at
URL:http://www.frauwolle.at/
CLASS:PUBLIC
END:VEVENT
END:VCALENDAR
