BEGIN:VCALENDAR
PRODID:-//AT Content Types//AT Event//EN
VERSION:2.0
METHOD:PUBLISH
BEGIN:VEVENT
DTSTAMP:20260423T232500Z
CREATED:20130429T191012Z
UID:ATEvent-c4d73edadf50763b8d7c20ebdd041077
LAST-MODIFIED:20130429T193213Z
SUMMARY:OhrenDurst BENEFIZ Fest-Abend mit Geschichten\, Musik und Kunsthandwerk
DTSTART:20130607T173000Z
DTEND:20130607T213000Z
DESCRIPTION:Frau Wolle erzählt Geschichten und Märchen vom Durst\, 5
 5 weitere Mitwirkende tragen Wort- Musik-und Sachspenden bei!
LOCATION:im Hyposaal (beim Cineplexx) in Innsbruck
CATEGORIES:Tirol
CONTACT:Frau Wolle\, 0512 37 03 16\, frauwolle@frauwolle.at
URL:http://www.frauwolle.at/content/?OhrenDurst___Fest-Abend
CLASS:PUBLIC
END:VEVENT
END:VCALENDAR
