BEGIN:VCALENDAR
PRODID:-//AT Content Types//AT Event//EN
VERSION:2.0
METHOD:PUBLISH
BEGIN:VEVENT
DTSTAMP:20260424T020032Z
CREATED:20120307T135117Z
UID:ATEvent-247a020324b3003a2203e61b8f6e95b4
LAST-MODIFIED:20120307T135128Z
SUMMARY:ÖSTLICH DER SONNE UND WESTLICH DES MONDES
DTSTART:20120313T190000Z
DTEND:20120313T210000Z
DESCRIPTION:Märchen und Geschichten von Hier und Anderswo\, über Gas
 tfreundschaft und Fremde.
LOCATION:Nußdorf Lienz\, Pfarrsaal oberhalb der Kirche
CATEGORIES:Tirol
CONTACT:Frau Wolle\, 0512-370316\, frau.wolle@utanet.at
URL:http://www.frauwolle.at
CLASS:PUBLIC
END:VEVENT
END:VCALENDAR
