BEGIN:VCALENDAR
PRODID:-//AT Content Types//AT Event//EN
VERSION:2.0
METHOD:PUBLISH
BEGIN:VEVENT
DTSTAMP:20260424T014942Z
CREATED:20110908T065047Z
UID:ATEvent-5a4abd4a759a385602a905db0ed51ce2
LAST-MODIFIED:20110908T065317Z
SUMMARY:MORGEN IST MORGEN Buchpräsentation & Erzählabend
DTSTART:20110915T170000Z
DTEND:20110915T194500Z
DESCRIPTION:Buchpräsentation mit Bildern\, Essen\, Musik
LOCATION:Innsbruck\, Integrationshaus am Ende der Gumpstr. (Nr. 71)
CATEGORIES:Tirol
CONTACT:Frau Wolle\, 0512-370316\, frau.wolle@utanet.at
URL:http://www.frauwolle.at
CLASS:PUBLIC
END:VEVENT
END:VCALENDAR
