BEGIN:VCALENDAR
PRODID:-//AT Content Types//AT Event//EN
VERSION:2.0
METHOD:PUBLISH
BEGIN:VEVENT
DTSTAMP:20260423T233144Z
CREATED:20130429T192238Z
UID:ATEvent-43621fc04d6e9f24e88c741abb8c39c4
LAST-MODIFIED:20130429T192605Z
SUMMARY:FeuerMond LIST\, LUST UND DIE LIEBE
DTSTART:20130721T180000Z
DTEND:20130721T201500Z
DESCRIPTION:Reza Mashajechi und Frau Wolle erzählen
LOCATION:Tiroler Volkskunstmuesum\, Innsbruck
CATEGORIES:Tirol
CONTACT:Frau Wolle\, 0512 37 03 16\, frauwolle@frauwolle.at
URL:http://www.frauwolle.at/content/?FeuerMOND
CLASS:PUBLIC
END:VEVENT
END:VCALENDAR
