BEGIN:VCALENDAR
PRODID:-//AT Content Types//AT Event//EN
VERSION:1.0
BEGIN:VEVENT
DTSTART:20130720T180000Z
DTEND:20130720T201500Z
DCREATED:20130429T192031Z
UID:ATEvent-f554d0073c84530c545ef8da7b2ecbe6
SEQUENCE:0
LAST-MODIFIED:20130429T192450Z
SUMMARY:FeuerMond LIST\, LUST UND DIE LIEBE
DESCRIPTION:Reza Mashajechi und Frau Wolle erzählen
LOCATION:Tiroler Volkskunstmuesum\, Innsbruck
PRIORITY:3
TRANSP:0
END:VEVENT
END:VCALENDAR
