BEGIN:VCALENDAR
PRODID:-//AT Content Types//AT Event//EN
VERSION:2.0
METHOD:PUBLISH
BEGIN:VEVENT
DTSTAMP:20260424T015821Z
CREATED:20120703T112228Z
UID:ATEvent-ec65747be417e151424da276f056d39f
LAST-MODIFIED:20120703T112242Z
SUMMARY:LIEBESNEST UND LÖWENZAHN/Feuermond
DTSTART:20120713T170000Z
DTEND:20120713T191500Z
DESCRIPTION:Spuren lesen und Geschichten hören\nFrau Wolle gemeinsam 
 mit Manfred Föger dem Biologen und Spurenleser
LOCATION:Botanischer Garten Innsbruck
CATEGORIES:Tirol
CONTACT:Frau Wolle\, 0512-370316\, frau.wolle@utanet.at
URL:http://www.frauwolle.at
CLASS:PUBLIC
END:VEVENT
END:VCALENDAR
