BEGIN:VCALENDAR
PRODID:-//AT Content Types//AT Event//EN
VERSION:2.0
METHOD:PUBLISH
BEGIN:VEVENT
DTSTAMP:20260424T015821Z
CREATED:20120703T113331Z
UID:ATEvent-20983ec5cd26546801ad4680db80f3dd
LAST-MODIFIED:20120703T113347Z
SUMMARY:LIEBESNEST UND LÖWENZAHN/Feuermond
DTSTART:20120715T170000Z
DTEND:20120715T191500Z
DESCRIPTION:Geschichten hören und Spuren lesen\,\nFrau Wolle erzählt
  & Manfred Föger liest Spuren
LOCATION:Botanischer Garten Innsbruck
CATEGORIES:Tirol
CONTACT:Frau Wolle\, 0512-370316\, frau.wolle@utanet.at
URL:http://www.frauwolle.at
CLASS:PUBLIC
END:VEVENT
END:VCALENDAR
