BEGIN:VCALENDAR
PRODID:-//AT Content Types//AT Event//EN
VERSION:1.0
BEGIN:VEVENT
DTSTART:20100519T173000Z
DTEND:20100519T193000Z
DCREATED:20100429T095328Z
UID:ATEvent-6ff61536f360787b6b9e631bbd30eb81
SEQUENCE:0
LAST-MODIFIED:20100502T071400Z
SUMMARY:HÜHNERSUPPE und ROSENDUFT
DESCRIPTION:- Märchen zur Gastfreundschaft\nBuchpräsentation beim Er
 zählabend mit Frau Wolle
LOCATION:Bildungshaus St. Arbogast
PRIORITY:3
TRANSP:0
END:VEVENT
END:VCALENDAR
