BEGIN:VCALENDAR
PRODID:-//AT Content Types//AT Event//EN
VERSION:1.0
BEGIN:VEVENT
DTSTART:20100610T173000Z
DTEND:20100610T193000Z
DCREATED:20100518T133327Z
UID:ATEvent-cdb04f9504dd8dd1fcb6303ce09692a1
SEQUENCE:0
LAST-MODIFIED:20100518T133348Z
SUMMARY:HÜHNERSUPPE und ROSENDUFT
DESCRIPTION:Buchpräsentation beim ERZÄHLAbend\n mit Märchen zur Gas
 tfreundschaft
LOCATION:in Gitta`s  wohnen-lifestyle-bistro in Kufstein
PRIORITY:3
TRANSP:0
END:VEVENT
END:VCALENDAR
