BEGIN:VCALENDAR
PRODID:-//AT Content Types//AT Event//EN
VERSION:1.0
BEGIN:VEVENT
DTSTART:20111012T180000Z
DTEND:20111012T200000Z
DCREATED:20111003T114204Z
UID:ATEvent-023f1b6e1a5d797990f79fb8ef9deb8d
SEQUENCE:0
LAST-MODIFIED:20111003T114205Z
SUMMARY:HIRSEBREI UND HONIGWEIN
DESCRIPTION:Märchen und Geschichten zur Gastfreundschaft
LOCATION:in der Widumstube links oberhalb der Kirche in Abfaltersbach in der Nähe von Sillian\, Osttirol
PRIORITY:3
TRANSP:0
END:VEVENT
END:VCALENDAR
