BEGIN:VCALENDAR
PRODID:-//AT Content Types//AT Event//EN
VERSION:2.0
METHOD:PUBLISH
BEGIN:VEVENT
DTSTAMP:20260424T015627Z
CREATED:20111113T223131Z
UID:ATEvent-5760c35aef815c84c0bcfac716cb88a8
LAST-MODIFIED:20111113T223143Z
SUMMARY:HIRSEBREI UND HONIGWEIN
DTSTART:20111207T190000Z
DTEND:20111207T210000Z
LOCATION:in Hall Schönegg
CONTACT:Frau Wolle\, 0512-370316\, frau.wolle@utanet.at
URL:http://www.frauwolle.at
CLASS:PUBLIC
END:VEVENT
END:VCALENDAR
