BEGIN:VCALENDAR
PRODID:-//AT Content Types//AT Event//EN
VERSION:1.0
BEGIN:VEVENT
DTSTART:20111019T180000Z
DTEND:20111019T200000Z
DCREATED:20111003T115009Z
UID:ATEvent-404cebef81ab59409cc9047e20156903
SEQUENCE:0
LAST-MODIFIED:20111003T115020Z
SUMMARY:HIRSEBREI UND HONIGWEIN
DESCRIPTION:Märchen und Geschichten zur Gastfreundschaft
LOCATION:Wängle\, im Außerfern
PRIORITY:3
TRANSP:0
END:VEVENT
END:VCALENDAR
