BEGIN:VCALENDAR
PRODID:-//AT Content Types//AT Event//EN
VERSION:2.0
METHOD:PUBLISH
BEGIN:VEVENT
DTSTAMP:20260424T015504Z
CREATED:20111003T114525Z
UID:ATEvent-f07c5c832a0e8dcb63aa12492f970ff0
LAST-MODIFIED:20111003T114535Z
SUMMARY:HIRSEBREI UND HONIGWEIN
DTSTART:20111013T180000Z
DTEND:20111013T200000Z
DESCRIPTION:Märchen und Geschichten zur Gastfreundschaft
LOCATION:Tristach
CATEGORIES:Tirol
CONTACT:Frau Wolle\, 0512-370316\, frau.wolle@utanet.at
URL:http://www.frauwolle.at
CLASS:PUBLIC
END:VEVENT
END:VCALENDAR
