BEGIN:VCALENDAR
PRODID:-//AT Content Types//AT Event//EN
VERSION:1.0
BEGIN:VEVENT
DTSTART:20120420T173000Z
DTEND:20120420T194500Z
DCREATED:20120307T140204Z
UID:ATEvent-fccaad1a29bae609313068a293425243
SEQUENCE:0
LAST-MODIFIED:20120307T140218Z
SUMMARY:GLÜCKSGANS und PECHVOGEL
DESCRIPTION:Märchen aus Tirol
LOCATION:in Maurach in der Bibliothek der Hauptschule Achsensee
PRIORITY:3
TRANSP:0
END:VEVENT
END:VCALENDAR
