BEGIN:VCALENDAR
PRODID:-//AT Content Types//AT Event//EN
VERSION:1.0
BEGIN:VEVENT
DTSTART:20111018T173000Z
DTEND:20111018T192000Z
DCREATED:20111003T114752Z
UID:ATEvent-7252d96e888996aeab97090fed3f6751
SEQUENCE:0
LAST-MODIFIED:20111004T094032Z
SUMMARY:GLÜCKS-GANS und PECH-VOGEL
DESCRIPTION:Märchen aus Tirol
LOCATION:Rattenberg
PRIORITY:3
TRANSP:0
END:VEVENT
END:VCALENDAR
