BEGIN:VCALENDAR
PRODID:-//AT Content Types//AT Event//EN
VERSION:2.0
METHOD:PUBLISH
BEGIN:VEVENT
DTSTAMP:20260424T015219Z
CREATED:20110530T115832Z
UID:ATEvent-b446fb300697cea671fcaccf0be66ac4
LAST-MODIFIED:20110530T115848Z
SUMMARY:Froschkönig und Stinkkäfer
DTSTART:20110716T180000Z
DTEND:20110716T200000Z
DESCRIPTION:Wunsch-Märchen der Grimm und aus Tirol
LOCATION:Zeughaus Innsbruck
CATEGORIES:Tirol
CONTACT:Frau Wolle\, 0512-370316\, frau.wolle@utanet.at
URL:http://www.frauwolle.at
CLASS:PUBLIC
END:VEVENT
END:VCALENDAR
