BEGIN:VCALENDAR
PRODID:-//AT Content Types//AT Event//EN
VERSION:1.0
BEGIN:VEVENT
DTSTART:20121201T183000Z
DTEND:20121201T203000Z
DCREATED:20121030T113204Z
UID:ATEvent-fa78a077bc438e3213e82cd85bef7912
SEQUENCE:0
LAST-MODIFIED:20121030T115057Z
SUMMARY:"Herzfeuer" Grazer Nächte der Erzählkunst 2012\: Feuerworte und Lebenswünsche
DESCRIPTION:Frederik Mellak und Frau Wolle erzählen von besionderen M
 ännern und Frauen   /   Musik\: Heidemarie Wiegand auf dem Klavier   
 /   \n"Als ich in den Spiegel schaute\, sprang mein Bild heraus und li
 ef davon..."\n"Du wirst alles\, was du dir wünschest\, besitzen\, abe
 r das Glück wirst du so nicht finden ..."\n"...mit jeden Schritt\, de
 n sie fortging\, wurde ihr leichter ums Herz\, mit jeder Stunde\, die 
 verstrich\, wurde sie fröhlicher..."   /   Eintritt\: 14.- bei Vorbes
 tellung/ 16.- an der Abendkassa   /   Anmeldung erbeten unter 0699 12 
 19 73 73
LOCATION:Musiksalon Ehrfurt\, Herrengasse 3 in Graz
PRIORITY:3
TRANSP:0
END:VEVENT
END:VCALENDAR
