BEGIN:VCALENDAR
PRODID:-//AT Content Types//AT Event//EN
VERSION:2.0
METHOD:PUBLISH
BEGIN:VEVENT
DTSTAMP:20260424T015731Z
CREATED:20100531T091122Z
UID:ATEvent-ecffd45593b675eb1824fb025635f12b
LAST-MODIFIED:20100531T091148Z
SUMMARY:FeuerMond - Schwarzer Wald und leuchtende Laterne
DTSTART:20100718T180000Z
DTEND:20100718T201500Z
DESCRIPTION:Wunderliche MÃ¤rchen und magische Lichtbilder \nSo lange e
 s noch hell ist\, werden dÃ¼stere SchwarzwÃ¤lder Sagen erzÃ¤hlt. In DÃ
 ¤mmerung und Dunkelheit verzaubern MÃ¤rchenbilder aus einer kleinen Za
 uberlaterne
LOCATION:Zeughaus Innsbruck InnenHof und SternenHimmel oder InnenRaum und MuseumsHimmel
CATEGORIES:Tirol
CONTACT:Frau Wolle\, 0512-370316\, frau.wolle@utanet.at
URL:http://www.frauwolle.at
CLASS:PUBLIC
END:VEVENT
END:VCALENDAR
